BEGIN:VCALENDAR
VERSION:2.0
PRODID:icalendar-ruby
CALSCALE:GREGORIAN
METHOD:PUBLISH
BEGIN:VEVENT
DTSTAMP:20260424T110640Z
UID:127-1242353@fcucc.org
DTSTART:20260425T160000Z
DTEND:20260425T180000Z
CLASS:PUBLIC
CREATED:20260423T112259
DESCRIPTION:All are welcome to the second lecture\, given by Rev. Dr. Seren
 e Jones. \nA Discussion and Book Signing will follow.
LAST-MODIFIED:20260423T112259
LOCATION:Sanctuary
SUMMARY:Lecture II
URL;VALUE=URI:https://fcucc.org/events/lecture-ii/2026-04-25
ATTACH;FILENAME=Serene-Jones.png;FMTTYPE=image/png:https://dq5pwpg1q8ru0.cl
 oudfront.net/2026/04/23/17/22/59/553826c9-2804-4f99-897a-eaa78780d96d/Sere
 ne-Jones.png
END:VEVENT
END:VCALENDAR
