BEGIN:VCALENDAR
VERSION:2.0
PRODID:icalendar-ruby
CALSCALE:GREGORIAN
METHOD:PUBLISH
BEGIN:VEVENT
DTSTAMP:20260423T221453Z
UID:126-1242352@fcucc.org
DTSTART:20260425T010000Z
DTEND:20260425T023000Z
CLASS:PUBLIC
CREATED:20260423T112122
DESCRIPTION:All are welcome to FCUCC for the first lecture\, given by Rev. 
 Dr. Serene Jones!
LAST-MODIFIED:20260423T112122
LOCATION:Sanctuary
SUMMARY:Lecture I
URL;VALUE=URI:https://fcucc.org/events/lecture-i/2026-04-24
ATTACH;FILENAME=Serene-Jones.png;FMTTYPE=image/png:https://dq5pwpg1q8ru0.cl
 oudfront.net/2026/04/23/17/20/31/73d98325-5841-4afb-99fd-0ec6162b4818/Sere
 ne-Jones.png
END:VEVENT
END:VCALENDAR
