BEGIN:VCALENDAR
VERSION:2.0
PRODID:icalendar-ruby
CALSCALE:GREGORIAN
METHOD:PUBLISH
BEGIN:VEVENT
DTSTAMP:20260420T063528Z
UID:88-1220669@fcucc.org
DTSTART:20261010T150000Z
DTEND:20261010T163000Z
CLASS:PUBLIC
CREATED:20260419T210342
DESCRIPTION:https://gamblersanonymous.org/find-a-meeting/colorado-springs-g
 -a-monday/
LAST-MODIFIED:20260419T210342
LOCATION:The Dwelling Place
SUMMARY:Gamblers Anonymous
URL;VALUE=URI:https://fcucc.org/events/gamblers-anonymous--88/2026-10-10
ATTACH;FILENAME=Gamblers-Anon-Header-Logo.png;FMTTYPE=image/png:https://dq5
 pwpg1q8ru0.cloudfront.net/2025/11/03/23/38/52/a3875236-167b-4765-a2ed-96a3
 00468439/Gamblers-Anon-Header-Logo.png
END:VEVENT
END:VCALENDAR
