BEGIN:VCALENDAR
VERSION:2.0
PRODID:icalendar-ruby
CALSCALE:GREGORIAN
METHOD:PUBLISH
BEGIN:VEVENT
DTSTAMP:20260422T225105Z
UID:87-1237998@fcucc.org
DTSTART:20261006T000000Z
DTEND:20261006T010000Z
CLASS:PUBLIC
CREATED:20260422T143253
DESCRIPTION:Open Meeting.\nhttps://gamblersanonymous.org/find-a-meeting/col
 orado-springs-g-a-monday/
LAST-MODIFIED:20260422T143253
LOCATION:The Dwelling Place
SUMMARY:Gamblers Anonymous
URL;VALUE=URI:https://fcucc.org/events/gamblers-anonymous--87/2026-10-05
ATTACH;FILENAME=Gamblers-Anon-Header-Logo.png;FMTTYPE=image/png:https://dq5
 pwpg1q8ru0.cloudfront.net/2025/11/03/23/35/45/24bdfa37-ebcc-4df8-a90c-6c75
 54ed5b19/Gamblers-Anon-Header-Logo.png
END:VEVENT
END:VCALENDAR
