BEGIN:VCALENDAR
VERSION:2.0
PRODID:icalendar-ruby
CALSCALE:GREGORIAN
METHOD:PUBLISH
BEGIN:VEVENT
DTSTAMP:20260420T092854Z
UID:98-1221757@fcucc.org
DTSTART:20261011T150000Z
DTEND:20261011T153000Z
CLASS:PUBLIC
CREATED:20260420T004034
DESCRIPTION:All are welcome to join us in worship at 9am on Sunday mornings
 . \nThis is a shortened service\, concluding at 9:30am. \nHoly Communion
  is offered\, along with a brief sermon. 
LAST-MODIFIED:20260420T004034
LOCATION:Sanctuary
SUMMARY:Community Worship Service I
URL;VALUE=URI:https://fcucc.org/events/community-worship-service-i/2026-10-
 11
ATTACH;FILENAME=FirstCongo.drone-16.jpg;FMTTYPE=image/jpeg:https://dq5pwpg1
 q8ru0.cloudfront.net/2026/01/13/17/35/32/d4189d14-62e9-486b-aa88-1b22f636d
 12e/FirstCongo.drone-16.jpg
END:VEVENT
END:VCALENDAR
